Package: Rbowtie2 Version: 2.14.0 Command: /Library/Frameworks/R.framework/Resources/bin/R CMD build --keep-empty-dirs --no-resave-data Rbowtie2 StartedAt: 2025-10-14 07:24:02 -0400 (Tue, 14 Oct 2025) EndedAt: 2025-10-14 07:27:55 -0400 (Tue, 14 Oct 2025) EllapsedTime: 233.1 seconds RetCode: 0 Status: OK PackageFile: Rbowtie2_2.14.0.tar.gz PackageFileSize: 1.711 MiB