Package: Rarr Version: 1.8.1 Command: /home/biocbuild/bbs-3.21-bioc/R/bin/R CMD build --keep-empty-dirs --no-resave-data Rarr StartedAt: 2025-10-15 19:21:13 -0400 (Wed, 15 Oct 2025) EndedAt: 2025-10-15 19:22:37 -0400 (Wed, 15 Oct 2025) EllapsedTime: 84.1 seconds RetCode: 0 Status: OK PackageFile: Rarr_1.8.1.tar.gz PackageFileSize: 1.377 MiB