Package: Rarr Version: 1.8.1 Command: /Library/Frameworks/R.framework/Resources/bin/R CMD build --keep-empty-dirs --no-resave-data Rarr StartedAt: 2025-10-13 21:50:24 -0400 (Mon, 13 Oct 2025) EndedAt: 2025-10-13 21:53:23 -0400 (Mon, 13 Oct 2025) EllapsedTime: 178.8 seconds RetCode: 0 Status: OK PackageFile: Rarr_1.8.1.tar.gz PackageFileSize: 1.43 MiB