Package: Rarr Version: 1.8.1 Command: /home/biocbuild/R/R/bin/R CMD check --install=check:Rarr.install-out.txt --library=/home/biocbuild/R/R/site-library --no-vignettes --timings Rarr_1.8.1.tar.gz StartedAt: 2025-10-14 13:01:35 -0000 (Tue, 14 Oct 2025) EndedAt: 2025-10-14 13:04:25 -0000 (Tue, 14 Oct 2025) EllapsedTime: 170.3 seconds RetCode: 0 Status: OK CheckDir: Rarr.Rcheck Warnings: 0