Package: RadioGx Version: 2.12.0 Command: /home/biocbuild/bbs-3.21-bioc/R/bin/R CMD check --install=check:RadioGx.install-out.txt --library=/home/biocbuild/bbs-3.21-bioc/R/site-library --timings RadioGx_2.12.0.tar.gz StartedAt: 2025-10-16 02:36:03 -0400 (Thu, 16 Oct 2025) EndedAt: 2025-10-16 02:40:28 -0400 (Thu, 16 Oct 2025) EllapsedTime: 264.5 seconds RetCode: 0 Status: OK CheckDir: RadioGx.Rcheck Warnings: 0