Package: RadioGx Version: 2.12.0 Command: /home/biocbuild/bbs-3.21-bioc/R/bin/R CMD build --keep-empty-dirs --no-resave-data RadioGx StartedAt: 2025-10-15 19:19:40 -0400 (Wed, 15 Oct 2025) EndedAt: 2025-10-15 19:20:34 -0400 (Wed, 15 Oct 2025) EllapsedTime: 54.0 seconds RetCode: 0 Status: OK PackageFile: RadioGx_2.12.0.tar.gz PackageFileSize: 2.765 MiB