Package: RadioGx Version: 2.12.0 Command: /Library/Frameworks/R.framework/Resources/bin/R CMD check --install=check:RadioGx.install-out.txt --library=/Library/Frameworks/R.framework/Resources/library --no-vignettes --timings RadioGx_2.12.0.tar.gz StartedAt: 2025-10-14 08:46:44 -0400 (Tue, 14 Oct 2025) EndedAt: 2025-10-14 08:55:37 -0400 (Tue, 14 Oct 2025) EllapsedTime: 533.2 seconds RetCode: 0 Status: OK CheckDir: RadioGx.Rcheck Warnings: 0