Package: RVS Version: 1.30.0 Command: /Library/Frameworks/R.framework/Resources/bin/R CMD INSTALL RVS StartedAt: 2025-10-13 15:21:39 -0400 (Mon, 13 Oct 2025) EndedAt: 2025-10-13 15:22:02 -0400 (Mon, 13 Oct 2025) EllapsedTime: 22.6 seconds RetCode: 0 Status: OK