Package: RVS Version: 1.30.0 Command: /Library/Frameworks/R.framework/Resources/bin/R CMD check --install=check:RVS.install-out.txt --library=/Library/Frameworks/R.framework/Resources/library --no-vignettes --timings RVS_1.30.0.tar.gz StartedAt: 2025-10-14 09:37:55 -0400 (Tue, 14 Oct 2025) EndedAt: 2025-10-14 09:47:23 -0400 (Tue, 14 Oct 2025) EllapsedTime: 567.8 seconds RetCode: 0 Status: WARNINGS CheckDir: RVS.Rcheck Warnings: 1