Package: RVS Version: 1.30.0 Command: rm -rf RVS.buildbin-libdir && mkdir RVS.buildbin-libdir && /Users/biocbuild/BBS/utils/build-universal.sh RVS_1.30.0.tar.gz /Library/Frameworks/R.framework/Resources/bin/R RVS.buildbin-libdir StartedAt: 2025-10-14 14:39:21 -0400 (Tue, 14 Oct 2025) EndedAt: 2025-10-14 14:39:51 -0400 (Tue, 14 Oct 2025) EllapsedTime: 30.1 seconds RetCode: 0 Status: OK PackageFile: RVS_1.30.0.tgz PackageFileSize: 692.2 KiB