Package: RVS Version: 1.30.0 Command: /Library/Frameworks/R.framework/Resources/bin/R CMD INSTALL RVS StartedAt: 2025-04-21 15:07:05 -0400 (Mon, 21 Apr 2025) EndedAt: 2025-04-21 15:07:10 -0400 (Mon, 21 Apr 2025) EllapsedTime: 4.8 seconds RetCode: 0 Status: OK