Package: RUVnormalize Version: 1.42.0 Command: /Library/Frameworks/R.framework/Resources/bin/R CMD INSTALL RUVnormalize StartedAt: 2025-10-13 18:23:49 -0400 (Mon, 13 Oct 2025) EndedAt: 2025-10-13 18:23:52 -0400 (Mon, 13 Oct 2025) EllapsedTime: 3.4 seconds RetCode: 0 Status: OK