Package: RUVnormalize Version: 1.42.0 Command: /Library/Frameworks/R.framework/Resources/bin/R CMD build --keep-empty-dirs --no-resave-data RUVnormalize StartedAt: 2025-10-14 08:18:24 -0400 (Tue, 14 Oct 2025) EndedAt: 2025-10-14 08:18:48 -0400 (Tue, 14 Oct 2025) EllapsedTime: 24.7 seconds RetCode: 0 Status: OK PackageFile: RUVnormalize_1.42.0.tar.gz PackageFileSize: 190.7 KiB