Package: RUVSeq Version: 1.42.0 Command: rm -rf RUVSeq.buildbin-libdir && mkdir RUVSeq.buildbin-libdir && E:\biocbuild\bbs-3.21-bioc\R\bin\R.exe CMD INSTALL --build --library=RUVSeq.buildbin-libdir RUVSeq_1.42.0.tar.gz StartedAt: 2025-08-15 10:11:08 -0400 (Fri, 15 Aug 2025) EndedAt: 2025-08-15 10:12:02 -0400 (Fri, 15 Aug 2025) EllapsedTime: 53.6 seconds RetCode: 0 Status: OK PackageFile: RUVSeq_1.42.0.zip PackageFileSize: 356.4 KiB