Package: RUVSeq Version: 1.42.0 Command: /Library/Frameworks/R.framework/Resources/bin/R CMD build --keep-empty-dirs --no-resave-data RUVSeq StartedAt: 2025-10-14 08:18:48 -0400 (Tue, 14 Oct 2025) EndedAt: 2025-10-14 08:20:48 -0400 (Tue, 14 Oct 2025) EllapsedTime: 119.1 seconds RetCode: 0 Status: OK PackageFile: RUVSeq_1.42.0.tar.gz PackageFileSize: 496 KiB