Package: RUVSeq Version: 1.42.0 Command: rm -rf RUVSeq.buildbin-libdir && mkdir RUVSeq.buildbin-libdir && /Users/biocbuild/BBS/utils/build-universal.sh RUVSeq_1.42.0.tar.gz /Library/Frameworks/R.framework/Resources/bin/R RUVSeq.buildbin-libdir StartedAt: 2025-10-15 20:16:47 -0400 (Wed, 15 Oct 2025) EndedAt: 2025-10-15 20:17:39 -0400 (Wed, 15 Oct 2025) EllapsedTime: 52.7 seconds RetCode: 0 Status: OK PackageFile: RUVSeq_1.42.0.tgz PackageFileSize: 536.8 KiB