Package: RUCova Version: 1.0.0 Command: chmod a+r RUCova -R && E:\biocbuild\bbs-3.21-bioc\R\bin\R.exe CMD build --keep-empty-dirs --no-resave-data RUCova StartedAt: 2025-08-14 21:55:07 -0400 (Thu, 14 Aug 2025) EndedAt: 2025-08-14 21:56:36 -0400 (Thu, 14 Aug 2025) EllapsedTime: 88.9 seconds RetCode: 0 Status: OK PackageFile: RUCova_1.0.0.tar.gz PackageFileSize: 4.353 MiB