Package: RUCova Version: 1.0.0 Command: /home/biocbuild/bbs-3.21-bioc/R/bin/R CMD INSTALL RUCova StartedAt: 2025-10-15 15:21:41 -0400 (Wed, 15 Oct 2025) EndedAt: 2025-10-15 15:22:06 -0400 (Wed, 15 Oct 2025) EllapsedTime: 25.6 seconds RetCode: 0 Status: OK