Package: RUCova Version: 1.0.0 Command: rm -rf RUCova.buildbin-libdir && mkdir RUCova.buildbin-libdir && /Users/biocbuild/BBS/utils/build-universal.sh RUCova_1.0.0.tar.gz /Library/Frameworks/R.framework/Resources/bin/R RUCova.buildbin-libdir StartedAt: 2025-04-21 22:50:24 -0400 (Mon, 21 Apr 2025) EndedAt: 2025-04-21 22:50:37 -0400 (Mon, 21 Apr 2025) EllapsedTime: 12.3 seconds RetCode: 0 Status: OK PackageFile: RUCova_1.0.0.tgz PackageFileSize: 5.403 MiB