Package: RTopper Version: 1.54.0 Command: /home/biocbuild/R/R/bin/R CMD check --install=check:RTopper.install-out.txt --library=/home/biocbuild/R/R/site-library --no-vignettes --timings RTopper_1.54.0.tar.gz StartedAt: 2025-10-14 13:37:30 -0000 (Tue, 14 Oct 2025) EndedAt: 2025-10-14 13:39:21 -0000 (Tue, 14 Oct 2025) EllapsedTime: 111.1 seconds RetCode: 0 Status: OK CheckDir: RTopper.Rcheck Warnings: 0