Package: RTNsurvival Version: 1.32.0 Command: chmod a+r RTNsurvival -R && E:\biocbuild\bbs-3.21-bioc\R\bin\R.exe CMD build --keep-empty-dirs --no-resave-data RTNsurvival StartedAt: 2025-08-14 21:53:35 -0400 (Thu, 14 Aug 2025) EndedAt: 2025-08-14 21:55:06 -0400 (Thu, 14 Aug 2025) EllapsedTime: 90.2 seconds RetCode: 0 Status: OK PackageFile: RTNsurvival_1.32.0.tar.gz PackageFileSize: 733 KiB