Package: RTNsurvival Version: 1.32.0 Command: rm -rf RTNsurvival.buildbin-libdir && mkdir RTNsurvival.buildbin-libdir && E:\biocbuild\bbs-3.21-bioc\R\bin\R.exe CMD INSTALL --build --library=RTNsurvival.buildbin-libdir RTNsurvival_1.32.0.tar.gz StartedAt: 2025-08-15 10:10:28 -0400 (Fri, 15 Aug 2025) EndedAt: 2025-08-15 10:12:21 -0400 (Fri, 15 Aug 2025) EllapsedTime: 113.0 seconds RetCode: 0 Status: OK PackageFile: RTNsurvival_1.32.0.zip PackageFileSize: 956.1 KiB