Package: RTNsurvival Version: 1.32.0 Command: /Library/Frameworks/R.framework/Resources/bin/R CMD build --keep-empty-dirs --no-resave-data RTNsurvival StartedAt: 2025-10-13 22:11:20 -0400 (Mon, 13 Oct 2025) EndedAt: 2025-10-13 22:13:09 -0400 (Mon, 13 Oct 2025) EllapsedTime: 109.1 seconds RetCode: 0 Status: OK PackageFile: RTNsurvival_1.32.0.tar.gz PackageFileSize: 732.9 KiB