Package: RTNsurvival Version: 1.32.0 Command: /home/biocbuild/R/R/bin/R CMD check --install=check:RTNsurvival.install-out.txt --library=/home/biocbuild/R/R/site-library --no-vignettes --timings RTNsurvival_1.32.0.tar.gz StartedAt: 2025-10-07 14:08:47 -0000 (Tue, 07 Oct 2025) EndedAt: 2025-10-07 14:14:39 -0000 (Tue, 07 Oct 2025) EllapsedTime: 352.0 seconds RetCode: 0 Status: OK CheckDir: RTNsurvival.Rcheck Warnings: 0