Package: RTNsurvival Version: 1.32.0 Command: /home/biocbuild/R/R/bin/R CMD build --keep-empty-dirs --no-resave-data RTNsurvival StartedAt: 2025-10-07 04:11:36 -0000 (Tue, 07 Oct 2025) EndedAt: 2025-10-07 04:12:42 -0000 (Tue, 07 Oct 2025) EllapsedTime: 66.0 seconds RetCode: 0 Status: OK PackageFile: RTNsurvival_1.32.0.tar.gz PackageFileSize: 757.7 KiB