Package: RTNsurvival Version: 1.32.0 Command: /Library/Frameworks/R.framework/Resources/bin/R CMD check --install=check:RTNsurvival.install-out.txt --library=/Library/Frameworks/R.framework/Resources/library --no-vignettes --timings RTNsurvival_1.32.0.tar.gz StartedAt: 2025-04-21 21:21:52 -0400 (Mon, 21 Apr 2025) EndedAt: 2025-04-21 21:23:23 -0400 (Mon, 21 Apr 2025) EllapsedTime: 91.1 seconds RetCode: 0 Status: OK CheckDir: RTNsurvival.Rcheck Warnings: 0