Package: RTNduals Version: 1.32.0 Command: /home/biocbuild/bbs-3.21-bioc/R/bin/R CMD INSTALL RTNduals StartedAt: 2025-10-01 15:25:09 -0400 (Wed, 01 Oct 2025) EndedAt: 2025-10-01 15:25:39 -0400 (Wed, 01 Oct 2025) EllapsedTime: 29.6 seconds RetCode: 0 Status: OK