Package: RTNduals Version: 1.32.0 Command: /home/biocbuild/bbs-3.21-bioc/R/bin/R CMD build --keep-empty-dirs --no-resave-data RTNduals StartedAt: 2025-10-01 19:40:26 -0400 (Wed, 01 Oct 2025) EndedAt: 2025-10-01 19:41:43 -0400 (Wed, 01 Oct 2025) EllapsedTime: 77.2 seconds RetCode: 0 Status: OK PackageFile: RTNduals_1.32.0.tar.gz PackageFileSize: 584.5 KiB