Package: RTN Version: 2.32.0 Command: /home/biocbuild/bbs-3.21-bioc/R/bin/R CMD check --install=check:RTN.install-out.txt --library=/home/biocbuild/bbs-3.21-bioc/R/site-library --timings RTN_2.32.0.tar.gz StartedAt: 2025-10-16 03:05:08 -0400 (Thu, 16 Oct 2025) EndedAt: 2025-10-16 03:11:01 -0400 (Thu, 16 Oct 2025) EllapsedTime: 353.6 seconds RetCode: 0 Status: OK CheckDir: RTN.Rcheck Warnings: 0