Package: RTN Version: 2.32.0 Command: /home/biocbuild/bbs-3.21-bioc/R/bin/R CMD build --keep-empty-dirs --no-resave-data RTN StartedAt: 2025-10-15 19:36:07 -0400 (Wed, 15 Oct 2025) EndedAt: 2025-10-15 19:38:28 -0400 (Wed, 15 Oct 2025) EllapsedTime: 141.1 seconds RetCode: 0 Status: OK PackageFile: RTN_2.32.0.tar.gz PackageFileSize: 10.26 MiB