Package: RTN Version: 2.32.0 Command: /Library/Frameworks/R.framework/Resources/bin/R CMD check --install=check:RTN.install-out.txt --library=/Library/Frameworks/R.framework/Resources/library --no-vignettes --timings RTN_2.32.0.tar.gz StartedAt: 2025-10-14 09:34:55 -0400 (Tue, 14 Oct 2025) EndedAt: 2025-10-14 09:44:12 -0400 (Tue, 14 Oct 2025) EllapsedTime: 557.5 seconds RetCode: 0 Status: OK CheckDir: RTN.Rcheck Warnings: 0