Package: RTN Version: 2.32.0 Command: /Library/Frameworks/R.framework/Resources/bin/R CMD build --keep-empty-dirs --no-resave-data RTN StartedAt: 2025-10-13 22:10:57 -0400 (Mon, 13 Oct 2025) EndedAt: 2025-10-13 22:16:34 -0400 (Mon, 13 Oct 2025) EllapsedTime: 337.2 seconds RetCode: 0 Status: OK PackageFile: RTN_2.32.0.tar.gz PackageFileSize: 10.26 MiB