Package: RTN Version: 2.32.0 Command: /home/biocbuild/R/R/bin/R CMD build --keep-empty-dirs --no-resave-data RTN StartedAt: 2025-10-14 04:14:10 -0000 (Tue, 14 Oct 2025) EndedAt: 2025-10-14 04:19:21 -0000 (Tue, 14 Oct 2025) EllapsedTime: 311.2 seconds RetCode: 0 Status: OK PackageFile: RTN_2.32.0.tar.gz PackageFileSize: 10.29 MiB