Package: RTN Version: 2.32.0 Command: /Library/Frameworks/R.framework/Resources/bin/R CMD INSTALL RTN StartedAt: 2025-10-13 16:07:33 -0400 (Mon, 13 Oct 2025) EndedAt: 2025-10-13 16:08:18 -0400 (Mon, 13 Oct 2025) EllapsedTime: 44.3 seconds RetCode: 0 Status: OK