Package: RTN Version: 2.32.0 Command: /Library/Frameworks/R.framework/Resources/bin/R CMD check --install=check:RTN.install-out.txt --library=/Library/Frameworks/R.framework/Resources/library --no-vignettes --timings RTN_2.32.0.tar.gz StartedAt: 2025-10-15 10:37:08 -0400 (Wed, 15 Oct 2025) EndedAt: 2025-10-15 10:42:15 -0400 (Wed, 15 Oct 2025) EllapsedTime: 307.2 seconds RetCode: 0 Status: OK CheckDir: RTN.Rcheck Warnings: 0