Package: RTN Version: 2.32.0 Command: /Library/Frameworks/R.framework/Resources/bin/R CMD build --keep-empty-dirs --no-resave-data RTN StartedAt: 2025-10-14 08:14:44 -0400 (Tue, 14 Oct 2025) EndedAt: 2025-10-14 08:18:06 -0400 (Tue, 14 Oct 2025) EllapsedTime: 201.6 seconds RetCode: 0 Status: OK PackageFile: RTN_2.32.0.tar.gz PackageFileSize: 10.26 MiB