Package: RTN Version: 2.32.0 Command: rm -rf RTN.buildbin-libdir && mkdir RTN.buildbin-libdir && /Users/biocbuild/BBS/utils/build-universal.sh RTN_2.32.0.tar.gz /Library/Frameworks/R.framework/Resources/bin/R RTN.buildbin-libdir StartedAt: 2025-10-15 20:15:45 -0400 (Wed, 15 Oct 2025) EndedAt: 2025-10-15 20:16:33 -0400 (Wed, 15 Oct 2025) EllapsedTime: 47.9 seconds RetCode: 0 Status: OK PackageFile: RTN_2.32.0.tgz PackageFileSize: 10.2 MiB