Package: RTCA Version: 1.60.0 Command: E:\biocbuild\bbs-3.21-bioc\R\bin\R.exe CMD INSTALL RTCA StartedAt: 2025-08-14 15:38:16 -0400 (Thu, 14 Aug 2025) EndedAt: 2025-08-14 15:38:45 -0400 (Thu, 14 Aug 2025) EllapsedTime: 29.1 seconds RetCode: 0 Status: OK