Package: RTCA Version: 1.60.0 Command: rm -rf RTCA.buildbin-libdir && mkdir RTCA.buildbin-libdir && E:\biocbuild\bbs-3.21-bioc\R\bin\R.exe CMD INSTALL --build --library=RTCA.buildbin-libdir RTCA_1.60.0.tar.gz StartedAt: 2025-08-15 10:10:16 -0400 (Fri, 15 Aug 2025) EndedAt: 2025-08-15 10:10:54 -0400 (Fri, 15 Aug 2025) EllapsedTime: 37.9 seconds RetCode: 0 Status: OK PackageFile: RTCA_1.60.0.zip PackageFileSize: 595.6 KiB