Package: RTCA Version: 1.60.0 Command: /home/biocbuild/bbs-3.21-bioc/R/bin/R CMD build --keep-empty-dirs --no-resave-data RTCA StartedAt: 2025-10-15 19:35:56 -0400 (Wed, 15 Oct 2025) EndedAt: 2025-10-15 19:36:07 -0400 (Wed, 15 Oct 2025) EllapsedTime: 11.0 seconds RetCode: 0 Status: OK PackageFile: RTCA_1.60.0.tar.gz PackageFileSize: 336.4 KiB