Package: RTCA Version: 1.60.0 Command: /home/biocbuild/R/R/bin/R CMD INSTALL RTCA StartedAt: 2025-10-13 20:23:40 -0000 (Mon, 13 Oct 2025) EndedAt: 2025-10-13 20:23:46 -0000 (Mon, 13 Oct 2025) EllapsedTime: 6.5 seconds RetCode: 0 Status: OK