Package: RTCA Version: 1.60.0 Command: /Library/Frameworks/R.framework/Resources/bin/R CMD check --install=check:RTCA.install-out.txt --library=/Library/Frameworks/R.framework/Resources/library --no-vignettes --timings RTCA_1.60.0.tar.gz StartedAt: 2025-04-21 21:21:25 -0400 (Mon, 21 Apr 2025) EndedAt: 2025-04-21 21:21:41 -0400 (Mon, 21 Apr 2025) EllapsedTime: 16.2 seconds RetCode: 0 Status: WARNINGS CheckDir: RTCA.Rcheck Warnings: 1