Package: RSeqAn Version: 1.28.0 Command: /Library/Frameworks/R.framework/Resources/bin/R CMD build --keep-empty-dirs --no-resave-data RSeqAn StartedAt: 2025-10-13 22:10:02 -0400 (Mon, 13 Oct 2025) EndedAt: 2025-10-13 22:10:43 -0400 (Mon, 13 Oct 2025) EllapsedTime: 40.3 seconds RetCode: 0 Status: OK PackageFile: RSeqAn_1.28.0.tar.gz PackageFileSize: 1.621 MiB