Package: RSeqAn Version: 1.28.0 Command: rm -rf RSeqAn.buildbin-libdir && mkdir RSeqAn.buildbin-libdir && /Users/biocbuild/BBS/utils/build-universal.sh RSeqAn_1.28.0.tar.gz /Library/Frameworks/R.framework/Resources/bin/R RSeqAn.buildbin-libdir StartedAt: 2025-10-14 14:38:12 -0400 (Tue, 14 Oct 2025) EndedAt: 2025-10-14 14:38:43 -0400 (Tue, 14 Oct 2025) EllapsedTime: 30.8 seconds RetCode: 0 Status: OK PackageFile: RSeqAn_1.28.0.tgz PackageFileSize: 1.715 MiB