Package: RSeqAn Version: 1.28.0 Command: /Library/Frameworks/R.framework/Resources/bin/R CMD check --install=check:RSeqAn.install-out.txt --library=/Library/Frameworks/R.framework/Resources/library --no-vignettes --timings RSeqAn_1.28.0.tar.gz StartedAt: 2025-10-15 10:33:25 -0400 (Wed, 15 Oct 2025) EndedAt: 2025-10-15 10:33:55 -0400 (Wed, 15 Oct 2025) EllapsedTime: 30.5 seconds RetCode: 0 Status: OK CheckDir: RSeqAn.Rcheck Warnings: 0