Package: RRHO Version: 1.48.0 Command: rm -rf RRHO.buildbin-libdir && mkdir RRHO.buildbin-libdir && E:\biocbuild\bbs-3.21-bioc\R\bin\R.exe CMD INSTALL --build --library=RRHO.buildbin-libdir RRHO_1.48.0.tar.gz StartedAt: 2025-08-15 10:09:41 -0400 (Fri, 15 Aug 2025) EndedAt: 2025-08-15 10:09:48 -0400 (Fri, 15 Aug 2025) EllapsedTime: 7.9 seconds RetCode: 0 Status: OK PackageFile: RRHO_1.48.0.zip PackageFileSize: 598.4 KiB