Package: RPA Version: 1.64.0 Command: /home/biocbuild/R/R/bin/R CMD build --keep-empty-dirs --no-resave-data RPA StartedAt: 2025-10-14 04:11:56 -0000 (Tue, 14 Oct 2025) EndedAt: 2025-10-14 04:12:28 -0000 (Tue, 14 Oct 2025) EllapsedTime: 32.0 seconds RetCode: 0 Status: OK PackageFile: RPA_1.64.0.tar.gz PackageFileSize: 284.7 KiB