Package: RPA Version: 1.64.0 Command: /Library/Frameworks/R.framework/Resources/bin/R CMD INSTALL RPA StartedAt: 2025-04-21 15:08:23 -0400 (Mon, 21 Apr 2025) EndedAt: 2025-04-21 15:08:33 -0400 (Mon, 21 Apr 2025) EllapsedTime: 9.1 seconds RetCode: 0 Status: OK