Package: RPA Version: 1.64.0 Command: /Library/Frameworks/R.framework/Resources/bin/R CMD check --install=check:RPA.install-out.txt --library=/Library/Frameworks/R.framework/Resources/library --no-vignettes --timings RPA_1.64.0.tar.gz StartedAt: 2025-10-15 10:27:23 -0400 (Wed, 15 Oct 2025) EndedAt: 2025-10-15 10:30:10 -0400 (Wed, 15 Oct 2025) EllapsedTime: 166.9 seconds RetCode: 0 Status: OK CheckDir: RPA.Rcheck Warnings: 0