Package: ROTS Version: 2.0.0 Command: /home/biocbuild/R/R/bin/R CMD INSTALL ROTS StartedAt: 2025-10-13 20:25:37 -0000 (Mon, 13 Oct 2025) EndedAt: 2025-10-13 20:26:04 -0000 (Mon, 13 Oct 2025) EllapsedTime: 27.2 seconds RetCode: 0 Status: OK